Workbook

Sheet +18 comuna y Conglomerado
B2: Población mayor de 18 años urbana y rural, según comuna y provincia para la región de Los Ríos*
B3: Conglomerado | C3: Provincia | D3: Comuna | E3: Mayores de 18 años en zonas urbanas de la comuna | F3: Mayores de 18 años en zonas urbanas de la provincia | G3: Mayores de 18 años en zonas rurales de la comuna | H3: Mayores de 18 años en zonas rurales de la Provincia | I3: Total de Mayores de 18 años en la comuna | J3: Total de Mayores de 18 años en la Provincia
B4: Coyhaique | C4: Coyhaique | D4: Coyhaique | E4: 35468 | F4: =E4 -> 35468 | G4: 5985 | H4: =SUM(G4:G5) -> 6662 | I4: =E4+G4 -> 41453 | J4: =F4+H4 -> 42130
D5: Lago Verde | E5: 0 | G5: 677 | I5: =G5 -> 677
B6: Aysén | C6: Aysén | D6: Aysén | E6: 14335 | F6: =SUM(E6:E8) -> 18640 | G6: 3031 | H6: =SUM(G6:G8) -> 5250 | I6: =E6+G6 -> 17366 | J6: =SUM(I6:I8) -> 23890
D7: Cisnes | E7: 2964 | G7: 2113 | I7: =E7+G7 -> 5077
D8: Guaitecas | E8: 1341 | G8: 106 | I8: =E8+G8 -> 1447
B9: Resto de la región | C9: General Carrera | D9: Chile Chico | E9: 2322 | F9: =SUM(E9:E13) -> 4381 | G9: 1399 | H9: =SUM(G9:G13) -> 4948 | I9: =E9+G9 -> 3721 | J9: =SUM(I9:I13) -> 9329
D10: Río Ibañez | E10: 0 | G10: 2122 | I10: =E10+G10 -> 2122
C11: Capitán Prat | D11: Cochrane | E11: 2059 | G11: 552 | I11: =E11+G11 -> 2611
D12: O'Higgins | E12: 0 | G12: 485 | I12: =E12+G12 -> 485
D13: Tortel | E13: 0 | G13: 390 | I13: =E13+G13 -> 390
B14: Total | E14: =SUM(E4:E13) -> 58489 | F14: =SUM(E14) -> 58489 | G14: =SUM(G4:G13) -> 16860 | H14: =SUM(H4:H13) -> 16860 | I14: =SUM(I4:I13) -> 75349 | J14: =SUM(J4:J13) -> 75349
B15: *Valores del CENSO 2017, no se consideran distritos indeterminados o 99

Sheet Resumen muestra x conglomerado
B2: Población total de mayores de 18 para la región de Los Ríos por conglomerado, según Censo 2017
B3: Conglomerado | C3: Población Urbana | E3: Población Rural | G3: Población Total | J3: Distribución de Población mayor de 18 años (N) | O3: Distribución Proporcional
C4: N | D4: % urbano de región | E4: N | F4: % rural de región | G4: N | H4: % Región | K4: Urbana | L4: Rural | M4: Total | O4: Conglomerado | P4: Muestra Urbana | Q4: Muestra Rural | R4: Total
B5: Coyhaique | C5: ='+18 comuna y Conglomerado'!F4 -> 35468 | D5: =C5/$C$8 -> 0.60640462 | E5: ='+18 comuna y Conglomerado'!H4 -> 6662 | F5: =E5/$E$8 -> 0.39513642 | G5: =C5+E5 -> 42130 | H5: =G5/$G$8 -> 0.55913151 | J5: Coyhaique | K5: =C5/$G$8 -> 0.47071627 | L5: =E5/G8 -> 0.088415241 | M5: =SUM(K5:L5) -> 0.55913151 | O5: Coyhaique | P5: =$I$19*K5 -> 211.82232 | Q5: =$I$19*L5 -> 39.786858 | R5: =SUM(P5:Q5) -> 251.60918
B6: Aysén | C6: ='+18 comuna y Conglomerado'!F6 -> 18640 | D6: =C6/$C$8 -> 0.3186924 | E6: ='+18 comuna y Conglomerado'!H6 -> 5250 | F6: =E6/$E$8 -> 0.3113879 | G6: =C6+E6 -> 23890 | H6: =G6/$G$8 -> 0.31705796 | J6: Aysén | K6: =C6/$G$8 -> 0.24738218 | L6: =E6/G8 -> 0.069675775 | M6: =SUM(K6:L6) -> 0.31705796 | O6: Aysén | P6: =$I$19*K6 -> 111.32198 | Q6: =$I$19*L6 -> 31.354099 | R6: =P6+Q6 -> 142.67608
B7: Resto de la región | C7: ='+18 comuna y Conglomerado'!F9 -> 4381 | D7: =C7/$C$8 -> 0.074902973 | E7: ='+18 comuna y Conglomerado'!H9 -> 4948 | F7: =E7/$E$8 -> 0.29347568 | G7: =C7+E7 -> 9329 | H7: =G7/$G$8 -> 0.12381053 | J7: Resto de la región | K7: =C7/$G$8 -> 0.058142776 | L7: =E7/G8 -> 0.065667759 | M7: =SUM(K7:L7) -> 0.12381053 | O7: Resto de la región | P7: =$I$19*K7 -> 26.164249 | Q7: =$I$19*L7 -> 29.550492 | R7: =SUM(P7:Q7) -> 55.714741
B8: Total | C8: =SUM(C5:C7) -> 58489 | D8: =SUM(D5:D7) -> 1 | E8: =SUM(E5:E7) -> 16860 | F8: =SUM(F5:F7) -> 1 | G8: =SUM(G5:G7) -> 75349 | H8: =SUM(H5:H7) -> 1 | J8: Total | K8: =SUM(K5:K7) -> 0.77624122 | L8: =SUM(L5:L7) -> 0.22375878 | M8: =SUM(M5:M7) -> 1 | O8: Total | P8: =SUM(P5:P7) -> 349.30855 | Q8: =SUM(Q5:Q7) -> 100.69145 | R8: =SUM(R5:R7) -> 450
B9: *Valores del CENSO 2017, no se consideran distritos indeterminados o 99
B13: Muestra semi proporcional propuesta
B14: Conglomerado | C14: Muestra Urbana | F14: Muestra Rural | I14: Muestra Total
C15: n | D15: % urbano de región | E15: Error Muestral | F15: n | G15: % rural de región | H15: Error Muestral | I15: n | J15: % Región | K15: Error Muestral | L15: Observación
B16: Coyhaique | C16: 180 | D16: =C16/$I$19 -> 0.4 | E16: =1.96*(SQRT(((0.5*0.5)/C16)*((C5-C16)/(C5-1)))) -> 0.072860327 | F16: 50 | G16: =F16/$I$19 -> 0.11111111 | H16: =1.96*(SQRT(((0.5*0.5)/F16)*((E5-F16)/(E5-1)))) -> 0.13808223 | I16: =C16+F16 -> 230 | J16: =I16/$I$19 -> 0.51111111 | K16: =1.96*(SQRT(((0.5*0.5)/I16)*((G5-I16)/(G5-1)))) -> 0.064443422 | L16: Sub representada
B17: Aysén | C17: 115 | D17: =C17/$I$19 -> 0.25555556 | E17: =1.96*(SQRT(((0.5*0.5)/C17)*((C6-C17)/(C6-1)))) -> 0.091105576 | F17: 30 | G17: =F17/$I$19 -> 0.066666667 | H17: =1.96*(SQRT(((0.5*0.5)/F17)*((E6-F17)/(E6-1)))) -> 0.17842776 | I17: =C17+F17 -> 145 | J17: =I17/$I$19 -> 0.32222222 | K17: =1.96*(SQRT(((0.5*0.5)/I17)*((G6-I17)/(G6-1)))) -> 0.081138911 | L17: Sub representada
B18: Resto de la región | C18: 45 | D18: =C18/$I$19 -> 0.1 | E18: =1.96*(SQRT(((0.5*0.5)/C18)*((C7-C18)/(C7-1)))) -> 0.14535414 | F18: 30 | G18: =F18/$I$19 -> 0.066666667 | H18: =1.96*(SQRT(((0.5*0.5)/F18)*((E7-F18)/(E7-1)))) -> 0.1783975 | I18: =C18+F18 -> 75 | J18: =I18/$I$19 -> 0.16666667 | K18: =1.96*(SQRT(((0.5*0.5)/I18)*((G7-I18)/(G7-1)))) -> 0.1127109 | L18: Sobre representada
B19: Total | C19: =SUM(C16:C18) -> 340 | D19: =SUM(D16:D18) -> 0.75555556 | E19: =1.96*(SQRT(((0.5*0.5)/C19)*((C8-C19)/(C8-1)))) -> 0.052993714 | F19: =SUM(F16:F18) -> 110 | G19: =SUM(G16:G18) -> 0.24444444 | H19: =1.96*(SQRT(((0.5*0.5)/F19)*((E8-F19)/(E8-1)))) -> 0.093136783 | I19: =SUM(I16:I18) -> 450 | J19: =SUM(J16:J18) -> 1 | K19: =1.96*(SQRT(((0.5*0.5)/I19)*((G8-I19)/(G8-1)))) -> 0.046059791

Sheet Muestra Por Conglomerado
B3: Muestra U/R según Comuna* | L3: Muestra proporcional por Conglomerado | Q3: Distribución Aproporcional minima x comuna (base)
B4: Conglomerado | C4: Provincia | D4: Comuna | E4: Zonas urbanas | G4: Zonas rurales** | I4: Muestra semi proporcional | L4: Provincia | M4: Muestra Urbana | N4: Muestra Rural | O4: Total | Q4: Comunas de Provincia | R4: Muestra Urbana | S4: Muestra Rural | T4: Total
E5: Mayores de 18 años urbanos de la comuna | F5: % mayores de 18 urbanos de la comuna en la provincia | G5: Mayores de 18 años rurales de la provincia en la comuna | H5: % mayores de 18 rurales de la provincia en la comuna | I5: Muestra Urbana | J5: Muestra Rural | L5: Coyhaique | M5: ='Resumen muestra x conglomerado'!C16-R5 -> 170 | N5: ='Resumen muestra x conglomerado'!F16-S5 -> 50 | O5: =M5+N5 -> 220 | Q5: Coyhaique | R5: 10 | S5: 0 | T5: =R5+S5 -> 10
B6: Coyhaique | C6: Coyhaique | D6: Coyhaique | E6: ='+18 comuna y Conglomerado'!E4 -> 35468 | F6: 1 | G6: ='+18 comuna y Conglomerado'!G4 -> 5985 | H6: =G6/(SUM($G$6:$G$7)) -> 0.89837887 | I6: =ROUND(((M5*F6)),0)+R5 -> 180 | J6: 46 | L6: Resto de la región | M6: ='Resumen muestra x conglomerado'!C18-(R6*5) -> -5 | N6: ='Resumen muestra x conglomerado'!F18-(S6) -> 27 | O6: =M6+N6 -> 22 | Q6: Resto de la región | R6: 10 | S6: 3 | T6: =R6+S6 -> 13
D7: Lago Verde | E7: ='+18 comuna y Conglomerado'!E5 -> 0 | F7: =E7/SUM($E$7:$E$15) -> 0 | G7: ='+18 comuna y Conglomerado'!G5 -> 677 | H7: =G7/(SUM($G$6:$G$7)) -> 0.10162113 | I7: 0 | J7: 4 | L7: Total | M7: =SUM(M5:M6) -> 165 | N7: =SUM(N5:N6) -> 77 | O7: =SUM(O5:O6) -> 242 | Q7: Total | R7: =SUM(R5:R6) -> 20 | S7: =SUM(S5:S6) -> 3 | T7: =SUM(T5:T6) -> 23
B8: Aysén | C8: Aysén | D8: Aysén | E8: ='+18 comuna y Conglomerado'!E6 -> 14335 | F8: =E8/SUM($E$7:$E$15) -> 0.62269232 | G8: ='+18 comuna y Conglomerado'!G6 -> 3031 | H8: =G8/(SUM($G$8:$G$15)) -> 0.29721514 | I8: 95 | J8: 20
D9: Cisnes | E9: ='+18 comuna y Conglomerado'!E7 -> 2964 | F9: =E9/SUM($E$7:$E$15) -> 0.12875201 | G9: ='+18 comuna y Conglomerado'!G7 -> 2113 | H9: =G9/(SUM($G$8:$G$15)) -> 0.20719749 | I9: 15 | J9: 10
D10: Guaitecas | E10: ='+18 comuna y Conglomerado'!E8 -> 1341 | F10: =E10/SUM($E$7:$E$15) -> 0.058251162 | G10: ='+18 comuna y Conglomerado'!G8 -> 106 | H10: =G10/(SUM($G$8:$G$15)) -> 0.010394195 | I10: 5 | J10: 0
B11: Resto de la región | C11: General Carrera | D11: Chile Chico | E11: ='+18 comuna y Conglomerado'!E9 -> 2322 | F11: =E11/SUM($E$7:$E$15) -> 0.10086443 | G11: ='+18 comuna y Conglomerado'!G9 -> 1399 | H11: =G11/(SUM($G$8:$G$15)) -> 0.13718376 | I11: 25 | J11: 0
D12: Río Ibañez | E12: ='+18 comuna y Conglomerado'!E10 -> 0 | F12: =E12/SUM($E$7:$E$15) -> 0 | G12: ='+18 comuna y Conglomerado'!G10 -> 2122 | H12: =G12/(SUM($G$8:$G$15)) -> 0.20808002 | I12: 0 | J12: 20
C13: Capitán Prat | D13: Cochrane | E13: ='+18 comuna y Conglomerado'!E11 -> 2059 | F13: =E13/SUM($E$7:$E$15) -> 0.089440076 | G13: ='+18 comuna y Conglomerado'!G11 -> 552 | H13: =G13/(SUM($G$8:$G$15)) -> 0.05412826 | I13: 20 | J13: 4
D14: O'Higgins | E14: ='+18 comuna y Conglomerado'!E12 -> 0 | F14: =E14/SUM($E$7:$E$15) -> 0 | G14: ='+18 comuna y Conglomerado'!G12 -> 485 | H14: =G14/(SUM($G$8:$G$15)) -> 0.047558345 | I14: 0 | J14: 4
D15: Tortel | E15: ='+18 comuna y Conglomerado'!E13 -> 0 | F15: =E15/SUM($E$7:$E$15) -> 0 | G15: ='+18 comuna y Conglomerado'!G13 -> 390 | H15: =G15/(SUM($G$8:$G$15)) -> 0.038242793 | I15: 0 | J15: 3
B16: Total | E16: =SUM(E6:E15) -> 58489 | G16: =SUM(G6:G15) -> 16860 | I16: =SUM(I6:I15) -> 340 | J16: =SUM(J6:J15) -> 111
B17: *Valores del CENSO 2017, no consideran distritos indeterminados o 99
B18: **Solo se incluye la población de las comunas donde se hara muestra rural
B20: Errores Muestrales por comuna y Provincia
B21: Provincia | C21: Comuna | D21: Errores Muestrales Comunales | G21: Errores Muestrales Provinciales
D22: Urbana | E22: Rural | F22: Total | G22: Urbana | H22: Rural | I22: Total
B23: Coyhaique | C23: Coyhaique | D23: =1.96*(SQRT(((0.5*0.5)/I6)*((E6-I6)/(E6-1)))) -> 0.072860327 | E23: =1.96*(SQRT(((0.5*0.5)/J6)*((G6-J6)/(G6-1)))) -> 0.14394879 | F23: =1.96*(SQRT(((0.5*0.5)/(I6+J6))*(((E6+G6)-(I6+J6))/((E6+G6)-1)))) -> 0.065011469 | G23: =1.96*(SQRT(((0.5*0.5)/SUM(I6:I7))*((SUM(E6:E7)-SUM(I6:I7))/(SUM(E6:E7)-1)))) -> 0.072860327 | H23: =1.96*(SQRT(((0.5*0.5)/SUM(J6:J7))*((SUM(G6:G7)-SUM(J6:J7))/(SUM(G6:G7)-1)))) -> 0.13808223 | I23: =1.96*(SQRT(((0.5*0.5)/SUM(I6:J7))*(((SUM(G6:G7)+SUM(E6:E7))-SUM(I6:J7))/((SUM(G6:G7)+SUM(E6:E7))-1)))) -> 0.064443422
C24: Lago Verde | D24: 0 | E24: =1.96*(SQRT(((0.5*0.5)/J7)*((G7-J7)/(G7-1)))) -> 0.48891151 | F24: =1.96*(SQRT(((0.5*0.5)/(I7+J7))*(((E7+G7)-(I7+J7))/((E7+G7)-1)))) -> 0.48891151
B25: Aysén | C25: Aysén | D25: =1.96*(SQRT(((0.5*0.5)/I8)*((E8-I8)/(E8-1)))) -> 0.10021565 | E25: =1.96*(SQRT(((0.5*0.5)/J8)*((G8-J8)/(G8-1)))) -> 0.21844653 | F25: =1.96*(SQRT(((0.5*0.5)/(I8+J8))*(((E8+G8)-(I8+J8))/((E8+G8)-1)))) -> 0.091085008 | G25: =1.96*(SQRT(((0.5*0.5)/SUM(I8:I10))*((SUM(E8:E10)-SUM(I8:I10))/(SUM(E8:E10)-1)))) -> 0.091105576 | H25: =1.96*(SQRT(((0.5*0.5)/SUM(J8:J10))*((SUM(G8:G10)-SUM(J8:J10))/(SUM(G8:G10)-1)))) -> 0.17842776 | I25: =1.96*(SQRT(((0.5*0.5)/SUM(I8:J10))*(((SUM(G8:G10)+SUM(E8:E10))-SUM(I8:J10))/((SUM(G8:G10)+SUM(E8:E10))-1)))) -> 0.081138911
C26: Cisnes | D26: =1.96*(SQRT(((0.5*0.5)/I9)*((E9-I9)/(E9-1)))) -> 0.25243642 | E26: =1.96*(SQRT(((0.5*0.5)/J9)*((G9-J9)/(G9-1)))) -> 0.3092422 | F26: =1.96*(SQRT(((0.5*0.5)/(I9+J9))*(((E9+G9)-(I9+J9))/((E9+G9)-1)))) -> 0.19553609
C27: Guaitecas | D27: =1.96*(SQRT(((0.5*0.5)/I10)*((E10-I10)/(E10-1)))) -> 0.4376147 | F27: =1.96*(SQRT(((0.5*0.5)/(I10+J10))*(((E10+G10)-(I10+J10))/((E10+G10)-1)))) -> 0.43766272
B28: General Carrera | C28: Chile Chico | D28: =1.96*(SQRT(((0.5*0.5)/I11)*((E11-I11)/(E11-1)))) -> 0.19498401 | F28: =1.96*(SQRT(((0.5*0.5)/(I11+J11))*(((E11+G11)-(I11+J11))/((E11+G11)-1)))) -> 0.19536672 | G28: =1.96*(SQRT(((0.5*0.5)/SUM(I11:I12))*((SUM(E11:E12)-SUM(I11:I12))/(SUM(E11:E12)-1)))) -> 0.19498401 | H28: =1.96*(SQRT(((0.5*0.5)/SUM(J11:J12))*((SUM(G11:G12)-SUM(J11:J12))/(SUM(G11:G12)-1)))) -> 0.21854245 | I28: =1.96*(SQRT(((0.5*0.5)/SUM(I11:J12))*(((SUM(G11:G12)+SUM(E11:E12))-SUM(I11:J12))/((SUM(G11:G12)+SUM(E11:E12))-1)))) -> 0.14553858
C29: Río Ibañez
B30: Capitán Prat | C30: Cochrane | D30: =1.96*(SQRT(((0.5*0.5)/I13)*((E13-I13)/(E13-1)))) -> 0.21812076 | F30: =1.96*(SQRT(((0.5*0.5)/(I13+J13))*(((E13+G13)-(I13+J13))/((E13+G13)-1)))) -> 0.1991583 | G30: =1.96*(SQRT(((0.5*0.5)/SUM(I13:I15))*((SUM(E13:E15)-SUM(I13:I15))/(SUM(E13:E15)-1)))) -> 0.21812076 | H30: =1.96*(SQRT(((0.5*0.5)/SUM(J13:J15))*((SUM(G13:G15)-SUM(J13:J15))/(SUM(G13:G15)-1)))) -> 0.29444325 | I30: =1.96*(SQRT(((0.5*0.5)/SUM(I13:J15))*(((SUM(G13:G15)+SUM(E13:E15))-SUM(I13:J15))/((SUM(G13:G15)+SUM(E13:E15))-1)))) -> 0.17525397
C31: O'Higgins | E31: =1.96*(SQRT(((0.5*0.5)/J14)*((G14-J14)/(G14-1)))) -> 0.48847904 | F31: =1.96*(SQRT(((0.5*0.5)/(I14+J14))*(((E14+G14)-(I14+J14))/((E14+G14)-1)))) -> 0.48847904
C32: Tortel | E32: =1.96*(SQRT(((0.5*0.5)/J15)*((G15-J15)/(G15-1)))) -> 0.56434688 | F32: =1.96*(SQRT(((0.5*0.5)/(I15+J15))*(((E15+G15)-(I15+J15))/((E15+G15)-1)))) -> 0.56434688

Sheet Detalle Zonas Urbanas
B2: Distribución del terreno Urbano por Comuna*
B3: Conglomerado | C3: Provincia | D3: Comuna | E3: Localidad | F3: Tipo de localidad | G3: Distrito Censal | H3: Nombre del Distrito | I3: Mayores de 18 años Urbanos (N) | J3: % de mayores de 18 años urbanos (en la comuna) | K3: Muestra Urbana (n)
B4: Coyhaique | C4: Coyhaique | D4: Coyhaique | E4: Coyhaique | F4: Ciudad | G4: 1 | H4: Coyhaique | I4: 6191 | J4: =I4/SUM($I$4:$I$6) -> 0.17576583 | K4: =ROUND(J4*'Muestra Por Conglomerado'!$I$6,0) -> 32
G5: 12 | H5: Cerro Divisadero | I5: 14956 | J5: =I5/SUM($I$4:$I$6) -> 0.42460892 | K5: =ROUND(J5*'Muestra Por Conglomerado'!$I$6,0) -> 76
G6: 13 | H6: Estero La Cruz | I6: 14076 | J6: =I6/SUM($I$4:$I$6) -> 0.39962524 | K6: =ROUND(J6*'Muestra Por Conglomerado'!$I$6,0) -> 72
B7: Aysén | C7: Aysén | D7: Aysén | E7: Puerto Aysén | F7: Ciudad | G7: 1 | H7: Puerto Aysén | I7: 6566 | J7: =I7/SUM($I$7:$I$10) -> 0.46012614 | K7: =J7*'Muestra Por Conglomerado'!$I$8 -> 43.711983
G8: 4 | H8: Valle los Lagos | I8: 5717 | J8: =I8/SUM($I$7:$I$10) -> 0.40063069 | K8: =J8*'Muestra Por Conglomerado'!$I$8 -> 38.059916
E9: Villa Mañiguales | F9: Pueblo | G9: 2 | H9: Mañiguales | I9: 1131 | J9: =I9/SUM($I$7:$I$10) -> 0.079257183 | K9: =J9*'Muestra Por Conglomerado'!$I$8 -> 7.5294324
E10: Puerto Chacabuco | F10: Pueblo | G10: 7 | H10: Puerto Chacabuco | I10: 856 | J10: =I10/SUM($I$7:$I$10) -> 0.059985985 | K10: =J10*'Muestra Por Conglomerado'!$I$8 -> 5.6986685
D11: Cisnes | E11: Puerto Cisnes | F11: Pueblo | G11: 1 | H11: Puerto Cisnes | I11: 1813 | J11: =I11/SUM($I$11:$I$12) -> 0.63681068 | K11: 10
E12: La Junta | F12: Pueblo | G12: 2 | H12: Lago Rosselot | I12: 1034 | J12: =I12/SUM($I$11:$I$12) -> 0.36318932 | K12: 5
D13: Guaitecas | E13: Melinka | F13: Pueblo | G13: 1 | H13: Guaitecas | I13: 965 | J13: =I13/I13 -> 1 | K13: ='Muestra Por Conglomerado'!I10 -> 5
B14: Resto de la región | C14: General Carrera | D14: Chile Chico | E14: Chile Chico | F14: Ciudad | G14: 1 | H14: Chile Chico | I14: 2298 | J14: =I14/I14 -> 1 | K14: ='Muestra Por Conglomerado'!I11 -> 25
C15: Capital Prat | D15: Cochrane | E15: Cochrane | F15: Ciudad | G15: 1 | H15: Río Chacabuco | I15: 2008 | J15: =I15/I15 -> 1 | K15: ='Muestra Por Conglomerado'!I13 -> 20
B16: Total | I16: =SUM(I4:I15) -> 57611 | K16: =SUM(K4:K15) -> 340
B17: *Solo se incluyen zonas urbanas a encuestar, excluye distritos 99

Sheet Zonas Rurales a Visitar
B2: Zonas rurales a visitar
B3: Conglomerado | C3: Provincia | D3: Comuna | E3: Zonas rurales a visitar | F3: Tipo de localidad | G3: Muestra Rural (n) | H3: Distancia a ciudad/pueblo más cercano
B4: Coyhaique | C4: Coyhaique | D4: Coyhaique | E4: Villa Simpson | F4: Aldea | G4: ='Muestra Por Conglomerado'!J6 -> 46 | H4: 10 km en auto a Coyhaique
B5: Aysén | C5: Aysén | D5: Aysén | E5: Río de los Palos/ Lago de los Palos | F5: Caserio | G5: ='Muestra Por Conglomerado'!J8 -> 20 | H5: 12,3 de km en auto de Aysén
B6: Resto de la región | C6: General Carrera | D6: Río Ibañez | E6: Puerto Ibañez | F6: Aldea | G6: ='Muestra Por Conglomerado'!J12 -> 20 | H6: 116 km en auto de Coyhaique.
B7: Total | G7: =SUM(G4:G6) -> 86
G9: =SUM(G4:G6) -> 86

Sheet Distribución por formato
B2: Distribución de encuestas por formato
B3: Conglomerado | C3: Provincia | D3: Comuna | E3: Urbana | H3: Rural
E4: Presencial | F4: Telefonica | G4: Total | H4: Presencial | I4: Telefonica | J4: Total
B5: Coyhaique | C5: Coyhaique | D5: Coyhaique | E5: 65 | F5: =G5-E5 -> 115 | G5: ='Muestra Por Conglomerado'!I6 -> 180 | H5: ='Zonas Rurales a Visitar'!G4 -> 46 | I5: =J5-H5 -> 0 | J5: ='Muestra Por Conglomerado'!J6 -> 46
D6: Lago Verde | E6: 0 | F6: =G6-E6 -> 0 | G6: ='Muestra Por Conglomerado'!I7 -> 0 | H6: 0 | I6: =J6-H6 -> 4 | J6: ='Muestra Por Conglomerado'!J7 -> 4
B7: Aysén | C7: Aysén | D7: Aysén | E7: 50 | F7: =G7-E7 -> 45 | G7: ='Muestra Por Conglomerado'!I8 -> 95 | H7: ='Zonas Rurales a Visitar'!G5 -> 20 | I7: =J7-H7 -> 0 | J7: ='Muestra Por Conglomerado'!J8 -> 20
D8: Cisnes | E8: 0 | F8: =G8-E8 -> 15 | G8: ='Muestra Por Conglomerado'!I9 -> 15 | H8: 0 | I8: =J8-H8 -> 10 | J8: ='Muestra Por Conglomerado'!J9 -> 10
D9: Guaitecas | E9: 0 | F9: =G9-E9 -> 5 | G9: ='Muestra Por Conglomerado'!I10 -> 5 | H9: 0 | I9: =J9-H9 -> 0 | J9: ='Muestra Por Conglomerado'!J10 -> 0
B10: Resto de la región | C10: General Carrera | D10: Chile Chico | E10: 0 | F10: =G10-E10 -> 25 | G10: ='Muestra Por Conglomerado'!I11 -> 25 | H10: 0 | I10: =J10-H10 -> 0 | J10: ='Muestra Por Conglomerado'!J11 -> 0
D11: Río Ibañez | E11: 0 | F11: =G11-E11 -> 0 | G11: ='Muestra Por Conglomerado'!I12 -> 0 | H11: ='Zonas Rurales a Visitar'!G6 -> 20 | I11: =J11-H11 -> 0 | J11: ='Muestra Por Conglomerado'!J12 -> 20
C12: Capitán Prat | D12: Cochrane | F12: =G12-E12 -> 20 | G12: ='Muestra Por Conglomerado'!I13 -> 20 | H12: 0 | I12: ='Muestra Por Conglomerado'!J13 -> 4 | J12: ='Muestra Por Conglomerado'!J13 -> 4
D13: O'Higgins | E13: 0 | F13: =G13-E13 -> 0 | G13: ='Muestra Por Conglomerado'!I14 -> 0 | H13: 0 | I13: ='Muestra Por Conglomerado'!J14 -> 4 | J13: ='Muestra Por Conglomerado'!J14 -> 4
D14: Tortel | E14: 0 | F14: =G14-E14 -> 0 | G14: ='Muestra Por Conglomerado'!I15 -> 0 | H14: 0 | I14: ='Muestra Por Conglomerado'!J15 -> 3 | J14: ='Muestra Por Conglomerado'!J15 -> 3
B15: Total | E15: =SUM(E5:E14) -> 115 | F15: =SUM(F5:F14) -> 225 | G15: =SUM(G5:G14) -> 340 | H15: =SUM(H5:H14) -> 86 | I15: =SUM(I5:I14) -> 25 | J15: =SUM(J5:J14) -> 111
E18: Formato de encuestas
E19: Presencial | F19: =E15+H15 -> 201
E20: Telefonica | F20: =F15+I15 -> 250
E21: Total | F21: =SUM(F19:F20) -> 451

Sheet Sobremuestra Presencial
B2: Muestra y sobremuestra presencial
B3: Conglomerado | C3: Provincia | D3: Comuna | E3: Muestra efectiva | F3: Sobremuestra para reemplazo
B4: Coyhaique | C4: Coyhaique | D4: Coyhaique | E4: =SUM('Muestra Por Conglomerado'!I6:J6) -> 226 | F4: =E4/(1-$I$5) -> 347.69231
D5: Lago Verde | E5: =SUM('Muestra Por Conglomerado'!I7:J7) -> 4 | F5: =E5/(1-$I$5) -> 6.1538462 | H5: Tasa de no respuesta | I5: 0.35
B6: Aysén | C6: Aysén | D6: Aysén | E6: =SUM('Muestra Por Conglomerado'!I8:J8) -> 115 | F6: =E6/(1-$I$5) -> 176.92308
D7: Cisnes | E7: =SUM('Muestra Por Conglomerado'!I9:J9) -> 25 | F7: =E7/(1-$I$5) -> 38.461538
D8: Guaitecas | E8: =SUM('Muestra Por Conglomerado'!I10:J10) -> 5 | F8: =E8/(1-$I$5) -> 7.6923077
B9: Resto de la región | C9: General Carrera | D9: Chile Chico | E9: =SUM('Muestra Por Conglomerado'!I11:J11) -> 25 | F9: =E9/(1-$I$5) -> 38.461538
D10: Río Ibañez | E10: =SUM('Muestra Por Conglomerado'!I12:J12) -> 20 | F10: =E10/(1-$I$5) -> 30.769231
C11: Capitán Prat | D11: Cochrane | E11: =SUM('Muestra Por Conglomerado'!I13:J13) -> 24 | F11: =E11/(1-$I$5) -> 36.923077
D12: O'Higgins | E12: =SUM('Muestra Por Conglomerado'!I14:J14) -> 4 | F12: =E12/(1-$I$5) -> 6.1538462
D13: Tortel | E13: =SUM('Muestra Por Conglomerado'!I15:J15) -> 3 | F13: =E13/(1-$I$5) -> 4.6153846
B14: Total | E14: =SUM(E4:E13) -> 451 | F14: =SUM(F4:F12) -> 689.23077

Sheet Marco muestral telefonico
B2: Conglomerado | C2: Provincia | D2: Comuna | E2: Ruts disponibles a sortear por comuna | F2: Ruts disponibles a sortear por conglomerado
B3: Coyhaique | C3: Coyhaique | D3: Coyhaique | E3: 57339 | F3: =E3+E4 -> 58491
D4: Lago Verde | E4: 1152
B5: Aysén | C5: Aysén | D5: Aysén | E5: 23955 | F5: =SUM(E5:E7) -> 30454
D6: Cisnes | E6: 4889
D7: Guaitecas | E7: 1610
B8: Resto de la región | C8: General Carrera | D8: Chile Chico | E8: 6703 | F8: =SUM(E8:E12) -> 14657
D9: Río Ibañez | E9: 3140
C10: Capitán Prat | D10: Cochrane | E10: 3506
D11: O'Higgins | E11: 744
D12: Tortel | E12: 564
B13: Total | E13: =SUM(E3:E12) -> 103602 | F13: =SUM(E13) -> 103602
